BEGIN:VCALENDAR
VERSION:2.0
PRODID:-//Dott.ssa Pamela Tassetti - ECPv5.12.4//NONSGML v1.0//EN
CALSCALE:GREGORIAN
METHOD:PUBLISH
X-WR-CALNAME:Dott.ssa Pamela Tassetti
X-ORIGINAL-URL:https://psicologatassetti.it
X-WR-CALDESC:Events for Dott.ssa Pamela Tassetti
REFRESH-INTERVAL;VALUE=DURATION:PT1H
X-Robots-Tag:noindex
X-PUBLISHED-TTL:PT1H
BEGIN:VTIMEZONE
TZID:Europe/Rome
BEGIN:DAYLIGHT
TZOFFSETFROM:+0100
TZOFFSETTO:+0200
TZNAME:CEST
DTSTART:20260329T010000
END:DAYLIGHT
BEGIN:STANDARD
TZOFFSETFROM:+0200
TZOFFSETTO:+0100
TZNAME:CET
DTSTART:20261025T010000
END:STANDARD
END:VTIMEZONE
BEGIN:VEVENT
DTSTART;VALUE=DATE:20260427
DTEND;VALUE=DATE:20260428
DTSTAMP:20260424T143945
CREATED:20260317T083630Z
LAST-MODIFIED:20260317T083630Z
UID:21819-1777248000-1777334399@psicologatassetti.it
SUMMARY:Fame emotiva. Conoscila per gestirla.
DESCRIPTION:Quando: lunedì 27 aprile\, lunedì 4\, 11\, 18\, 25 maggio dalle ore 20.30 alle ore 22 \nDove:  online su piattaforma Google Meet \nCosto:  171 euro\, detraibili come spesa sanitaria. \nMangi guidato dalle tue emozioni? Fatichi a seguire una dieta? Vuoi rompere il circolo vizioso abbuffata-restrizione? Desideri migliorare la tua relazione con cibo e corpo? Si parla di fame emotiva quando il desiderio di mangiare ti assale improvvisamente e non è sintomo di un reale bisogno di nutrimento. Di per sè l’alimentazione emotiva non è sbagliata ma occorre imparare a riconoscerla e trattarla affinchè non rechi danno alla nostra salute. Spesso la dieta da sola non basta per mantenere il proprio peso naturale nel lungo periodo e risulta opportuno affidarsi ad uno Psicologo alimentare\, cioè un professionista esperto che aiuta ad identificare le cause psico-emotive della fame. Ogni argomento verrà affrontato sia da un punto di vista teorico sia da un punto di vista pratico. Per tutta la durata del percorso\, sarò disponibile ad attività di supporto psicologico.
URL:https://psicologatassetti.it/evento/fame-emotiva-conoscila-per-gestirla-5/
LOCATION:Online
CATEGORIES:Percorso
ORGANIZER;CN="Pamela%20Tassetti":MAILTO:info@psicologatassetti.it
END:VEVENT
END:VCALENDAR